BEGIN:VCALENDAR
VERSION:2.0
PRODID:-//85.13.132.198//NONSGML kigkonsult.se iCalcreator 2.20//
CALSCALE:GREGORIAN
METHOD:PUBLISH
X-WR-TIMEZONE:Europe/Berlin
BEGIN:VEVENT
UID:event525@Kulturgemeinschaft Ottbergen e.V.
DTSTAMP:20260424T143708Z
CATEGORIES:ThimKu
DESCRIPTION:Thimku\nKategorie: ThimKu\nICS-Link: http://kulturgemeinschaft-
 ottbergen.de/index.php?option=com_jem&view=event&id=525:thimku\n
DTSTART;VALUE=DATE:20241101
DTEND;VALUE=DATE:20241117
LOCATION:KuStall\,Kirchwinkel 6\,37671 Höxter-Ottbergen
SUMMARY:Thimku
URL:http://kulturgemeinschaft-ottbergen.de/index.php?option=com_jem&view=ev
 ent&id=525:thimku
END:VEVENT
END:VCALENDAR
